BEGIN:VCALENDAR
VERSION:2.0
PRODID:icalendar-ruby
CALSCALE:GREGORIAN
METHOD:PUBLISH
BEGIN:VEVENT
DTSTAMP:20260423T180233Z
UID:50-1043980@asuuc.net
DTSTART:20260804T233000Z
DTEND:20260805T003000Z
CLASS:PUBLIC
CREATED:20260423T091025
DESCRIPTION:
LAST-MODIFIED:20260423T091025
LOCATION:Great Hall
SUMMARY:Choir Practice
URL;VALUE=URI:https://asuuc.net/events/choir-practice--50/2026-08-04
ATTACH;FILENAME=Choir-Wide-%281%29.png;FMTTYPE=image/png:https://dq5pwpg1q8
 ru0.cloudfront.net/2025/12/04/19/33/07/01ccc73d-9535-4492-b61d-ec4c506ee5a
 4/Choir-Wide-%25281%2529.png
END:VEVENT
END:VCALENDAR
