BEGIN:VCALENDAR
VERSION:2.0
PRODID:icalendar-ruby
CALSCALE:GREGORIAN
METHOD:PUBLISH
BEGIN:VEVENT
DTSTAMP:20260423T193442Z
UID:50-1044299@asuuc.net
DTSTART:20260811T233000Z
DTEND:20260812T003000Z
CLASS:PUBLIC
CREATED:20260423T120626
DESCRIPTION:
LAST-MODIFIED:20260423T120626
LOCATION:Great Hall
SUMMARY:Choir Practice
URL;VALUE=URI:https://asuuc.net/events/choir-practice--50/2026-08-11
ATTACH;FILENAME=Choir-Wide-%281%29.png;FMTTYPE=image/png:https://dq5pwpg1q8
 ru0.cloudfront.net/2025/12/04/19/33/07/01ccc73d-9535-4492-b61d-ec4c506ee5a
 4/Choir-Wide-%25281%2529.png
END:VEVENT
END:VCALENDAR
