BEGIN:VCALENDAR
VERSION:2.0
PRODID:icalendar-ruby
CALSCALE:GREGORIAN
METHOD:PUBLISH
BEGIN:VEVENT
DTSTAMP:20260424T062241Z
UID:48-1045196@asuuc.net
DTSTART:20260927T144500Z
DTEND:20260927T150000Z
CLASS:PUBLIC
CREATED:20260423T204939
DESCRIPTION:
LAST-MODIFIED:20260423T204939
LOCATION:Great Hall
SUMMARY:Choir Practice
URL;VALUE=URI:https://asuuc.net/events/choir-practice/2026-09-27
ATTACH;FILENAME=Choir-Wide-%281%29.png;FMTTYPE=image/png:https://dq5pwpg1q8
 ru0.cloudfront.net/2025/12/04/19/32/13/c92a51c6-6337-49e3-8734-f0601498925
 c/Choir-Wide-%25281%2529.png
END:VEVENT
END:VCALENDAR
