BEGIN:VCALENDAR
VERSION:2.0
PRODID:icalendar-ruby
CALSCALE:GREGORIAN
METHOD:PUBLISH
BEGIN:VEVENT
DTSTAMP:20260422T172443Z
UID:166-1042254@asuuc.net
DTSTART:20261020T223000Z
DTEND:20261021T000000Z
CLASS:PUBLIC
CREATED:20260422T091138
DESCRIPTION:In person\, in the LIBRARY at ASUUC\nLocations might vary in th
 e future. Please check weekly for current locations in Events / German Con
 versation Club.\n \n"Sprechen Sie Deutsch?" If you'd answer "Ein bisschen
 !" (A little!) or "Gerne!" (With pleasure!)\, please join our new social c
 lub anytime. We meet every Tuesday afternoon in the LIBRARY at ASUUC at
  4:30 pm. Don't hesitate to come late. Be ready to speak German\, no matt
 er how well\, remember and guess a lot\, fill gaps  (speak Denglisch = De
 utsch + Englisch) and just have a great time with great people\, coffee an
 d cake. Locations might vary when we go to cafés\, hiking or visit other 
 cool places. \n \nIf you'd like to START learning German\, please let 
 us know to consider starting a group for you.\n\n \nWe are looking forwar
 d to spending good times with you.\nQuestions? Email Birgitta Day at birg
 ittatday@yahoo.com
LAST-MODIFIED:20260422T091138
LOCATION:Library
SUMMARY:German Conversation Club
URL;VALUE=URI:https://asuuc.net/events/german-conversation-club/2026-10-20
ATTACH;FILENAME=German-Conversations-Wide.png;FMTTYPE=image/png:https://dq5
 pwpg1q8ru0.cloudfront.net/2026/02/09/19/36/47/6ce8ebab-59c3-426c-889d-c88c
 fa665b10/German-Conversations-Wide.png
END:VEVENT
END:VCALENDAR
