BEGIN:VCALENDAR
VERSION:2.0
PRODID:icalendar-ruby
CALSCALE:GREGORIAN
METHOD:PUBLISH
BEGIN:VEVENT
DTSTAMP:20260423T061609Z
UID:189-1042593@asuuc.net
DTSTART:20260502T000000Z
DTEND:20260502T020000Z
CLASS:PUBLIC
CREATED:20260422T134903
DESCRIPTION:
LAST-MODIFIED:20260422T134903
LOCATION:
SUMMARY:Neurodiversity Peer Support Group Meeting
URL;VALUE=URI:https://asuuc.net/events/neurodiversity-peer-support-group-me
 eting--189/2026-05-01
ATTACH;FILENAME=Neurodivergent-Wide.png;FMTTYPE=image/png:https://dq5pwpg1q
 8ru0.cloudfront.net/2026/04/22/19/49/03/b263fcc0-7d84-408c-94b0-bf051d1cc8
 6e/Neurodivergent-Wide.png
END:VEVENT
END:VCALENDAR
